BEGIN:VCALENDAR
VERSION:2.0
PRODID:-//Museu Digital Unila - ECPv6.15.11//NONSGML v1.0//EN
CALSCALE:GREGORIAN
METHOD:PUBLISH
X-ORIGINAL-URL:https://museudigital.unila.edu.br
X-WR-CALDESC:Eventos para Museu Digital Unila
REFRESH-INTERVAL;VALUE=DURATION:PT1H
X-Robots-Tag:noindex
X-PUBLISHED-TTL:PT1H
BEGIN:VTIMEZONE
TZID:America/Sao_Paulo
BEGIN:STANDARD
TZOFFSETFROM:-0300
TZOFFSETTO:-0300
TZNAME:-03
DTSTART:20200101T000000
END:STANDARD
END:VTIMEZONE
BEGIN:VEVENT
DTSTART;VALUE=DATE:20220512
DTEND;VALUE=DATE:20220513
DTSTAMP:20260420T122700
CREATED:20220511T233416Z
LAST-MODIFIED:20220511T234626Z
UID:59693-1652313600-1652399999@museudigital.unila.edu.br
SUMMARY:Live de lançamento da Exposição Internacional "Arquitetura Habitacional da URSS: Concurso entre Camaradas 1926"
DESCRIPTION:AMANHÃ\, dia 12.05\, às 18h00\, live de lançamento da exposição “Arquitetura Habitacional da URSS: Concurso entre Camaradas 1926”\, que acontece simultaneamente no Brasil\, México\, Argentina e Venezuela. No Brasil\, o MALOCA é que está organizando as sedes expositivas nas várias regiões do país\, com o apoio do MUD. Não percam\, este material é inédito na América Latina! \nO evento será transmitido pelo facebook da Brigada Académica Interdisciplinaria\, participem!
URL:https://museudigital.unila.edu.br/evento/live-de-lancamento-da-exposicao-internacional-arquitetura-habitacional-da-urss-concurso-entre-camaradas-1926/
END:VEVENT
BEGIN:VEVENT
DTSTART;VALUE=DATE:20220418
DTEND;VALUE=DATE:20220519
DTSTAMP:20260420T122700
CREATED:20220425T205454Z
LAST-MODIFIED:20220425T205454Z
UID:59571-1650240000-1652918399@museudigital.unila.edu.br
SUMMARY:Mostra fotográfica Retinas da Fronteira Trinacional
DESCRIPTION:
URL:https://museudigital.unila.edu.br/evento/mostra-fotografica-retinas-da-fronteira-trinacional/
END:VEVENT
BEGIN:VEVENT
DTSTART;TZID=America/Sao_Paulo:20211125T190000
DTEND;TZID=America/Sao_Paulo:20211125T203000
DTSTAMP:20260420T122700
CREATED:20211125T145010Z
LAST-MODIFIED:20211125T191625Z
UID:47664-1637866800-1637872200@museudigital.unila.edu.br
SUMMARY:Live debate a produção da artista Fayga Ostrower
DESCRIPTION:Dia 25/11\, às 19h\, através do no canal oficial da UNILA no Youtube\, estaremos realizando uma Live em comemoração da doação de obras da artista Fayga Ostrower para a UNILA. Essa atividade é parte da programação cultural do 3ª SIEPE\, que será realizado pela nossa universidade\, a partir da próxima semana. Entre as obras doadas pelo Instituto Fayga Ostrower\, estão gravuras\, posters e publicações\, que serão exibidos em uma exposição física e virtual\, em 2022. As doações ocorreram no marco do centenário da artista e como parte de um programa de distribuição do seu acervo para instituições públicas de educação e cultura do Brasil. \nConvidamos para a live Maria Luisa Tavora e Vanessa Mendonça\, duas pesquisadoras que possuem trabalhos de longa data sobre essa grande artista. Maria Luísa é doutora em História Social (História e Cultura) pelo Instituto de Filosofia e Ciências Sociais-Universidade Federal do Rio de Janeiro (UFRJ). Pós-doutorado pela EHESS/Paris. Professora Titular de História da Arte nos cursos de Graduação e no Programa de Pós-graduação em Artes Visuais (PPGAV) da Escola de Belas Artes / UFRJ. Pesquisadora e historiadora da gravura artística moderna no Brasil\, com publicações sobre o assunto\, com destaque para a organização da série em 3 volumes: Gravura Brasileira Hoje: depoimentos (1995/96/97). Pesquisadora bolsista do CNPq (Conselho Nacional de Desenvolvimento Científico e Tecnológico). Membro do Comitê Brasileiro de História da Arte (CBHA)\, ligado ao CIHA. Membro da Associação Brasileira de Críticos de Arte (ABCA)\, ligada à AICA. Membro da Associação Nacional de Pesquisadores em Artes Plásticas (ANPAP) e do Conselho do Instituto Fayga Ostrower. \nVanessa Mendonça é Mestra em Artes Visuais pelo PPGAV/UNB. Graduou-se em História\, Teoria e Crítica de Arte\, pela EBA/ UFRJ e sua pesquisa tem por objeto principal a produção de estampas para tecidos\, criadas pela artista Fayga Ostrower em sociedade com o artista Decio Vieira\, na década de 1950. Tem interesse por toda questão do modernismo no Brasil e artistas mulheres. \nA mediação será de Michele Dacas\, relações públicas do departamento de culturas e comunicação da PROEX/UNILA e coordenadora do MUD. \n\n\n\n\n\n\n\nA live será transmitida pelo canal da UNILA no YouTube. \n 
URL:https://museudigital.unila.edu.br/evento/live-debate-a-producao-da-artista-fayga-ostrower/
ATTACH;FMTTYPE=image/jpeg:https://museudigital.unila.edu.br/wp-content/uploads/2021/11/Fayga-em-Itatiaia-Rio-de-Janeiro-1945.jpg
END:VEVENT
BEGIN:VEVENT
DTSTART;TZID=America/Sao_Paulo:20210930T190000
DTEND;TZID=America/Sao_Paulo:20210930T210000
DTSTAMP:20260420T122700
CREATED:20210819T165455Z
LAST-MODIFIED:20211029T191433Z
UID:31498-1633028400-1633035600@museudigital.unila.edu.br
SUMMARY:Live de Lançamento Museu Digital UNILA
DESCRIPTION:Anotem na agenda\, dia 30 de setembro de 2021\, às 19h\, será lançado\, em nosso canal do YouTube\, a plataforma Museu Digital UNILA\, com um debate mais que especial entre convidadas e convidados pesquisadores\, atuantes e também responsáveis pela criação deste espaço\, que irá inserir a nossa Universidade no conjunto de práticas e organização de coleções museológicas. \nAlém da mediadora\, a professora da UNILA Ana Rita Uhle\, participam desta atividade: \nLuciana Conrado Martins \nHistoriadora\, especialista em Museologia e doutora em Educação pela USP. Atua nas áreas de educação\, museologia e cultura digital. Atualmente é diretora da empresa Percebe\, professora do Programa de Pós-Graduação em Artes\, Patrimônio e Museologia (UFPI) e coordenadora de articulação de redes do projeto Tainacan (UNB). É coordenadora da seção brasileira do Comitê para a Educação e a Ação Cultural (CECA-BR) do Conselho Internacional de Museus (ICOM). \n \nRosângela de Jesus Silva – Mestre e Doutora em História da Arte pela Unicamp. Professora do Instituto Latino-Americano de Arte\, Cultura e História da UNILA e do Programa de Pós-graduação em História\, PPGHIS – UNILA. \n \nLoudmia Amicia Pierre-Louis – Historiadora da América-Latina pelo Instituto Latino-Americano de Arte\, Cultura e História da UNILA e mestranda do Programa de Pós- Graduação em História\, PPGHIS – UNILA. \n \nGleisson Alisson Pereira de Brito reitor da Universidade Federal da Integração Latino-Americana (UNILA) \n \nMediação: \nAna Rita Uhle\, mestre e doutora em História pela Universidade Estadual de Campinas\, professora do Instituto Latino-americano de Arte\, Cultura e História da UNILA e do Curso de Especialização em Ensino de História e América Latina – EHAL/UNILA. \n \nParticipe você também e venha conhecer o MUD – Museu Digital UNILA \n 
URL:https://museudigital.unila.edu.br/evento/exemplo-evento-01/
LOCATION:Jardim Universitário\, Avenida Tarquínio Joslin dos Santos\, 1000\, Foz do Iguaçu\, Paraná\, 85870-650\, Brasil
ATTACH;FMTTYPE=image/jpeg:https://museudigital.unila.edu.br/wp-content/uploads/2021/08/photo1632164363-e1632312618799.jpeg
END:VEVENT
END:VCALENDAR